DatasetHeader Begin
	Version	= "5.5"
	Description	= "ERS file imported from the GeoSoft GRD file - /mdata4/airmag1/pasminco/dundas/geosoft_grids/rf4fin.grd"
	LastUpdated	= Thu Mar 23 21:02:06 GMT 2000
	DataSetType	= ERStorage
	DataType	= Raster
	ByteOrder	= MSBFirst
	CoordinateSpace Begin
		Datum	= "AGD84"
		Projection	= "TMAMG55"
		CoordinateType	= EN
		Rotation	= 0:0:0.0
	CoordinateSpace End
	RasterInfo Begin
		CellType	= IEEE4ByteReal
		NullCellValue	= -1.000000033181E+32
		CellInfo Begin
			Xdimension	= 25
			Ydimension	= 25
		CellInfo End
		NrOfLines	= 527
		NrOfCellsPerLine	= 423
		RegistrationCoord Begin
			Eastings	= 367725
			Northings	= 5360975
		RegistrationCoord End
		RegistrationCellX	= 0
		RegistrationCellY	= 527
		NrOfBands	= 1
		BandId Begin
			Value	= "Band1"
		BandId End
	RasterInfo End
DatasetHeader End
