!table
!version 300
!charset WindowsLatin1

Definition Table
  File "heazlewood geol struct metex 89-3054_p149.jpg"
  Type "RASTER"
  (356112,5415184) (1459,414) Label "Pt 1",
  (362112,5415184) (6209,422) Label "Pt 2",
  (362112,5405184) (6203,8335) Label "Pt 3",
  (356112,5405184) (1452,8356) Label "Pt 4"
  CoordSys Earth Projection 8, 116, "m", 147, 0, 0.9996, 500000, 10000000
  Units "m"
