!table
!version 300
!charset WindowsLatin1

Definition Table
  File "heazlewood struct tgts mag ar2004_p33.jpg"
  Type "RASTER"
  (358040,5407140) (203,161) Label "Pt 1",
  (363090,5407210) (954,161) Label "Pt 2",
  (363120,5403300) (957,765) Label "Pt 3",
  (358070,5403160) (197,761) Label "Pt 4"
  CoordSys Earth Projection 8, 116, "m", 147, 0, 0.9996, 500000, 10000000
  Units "m"
